BEGIN:VCALENDAR
VERSION:2.0
PRODID:-//U.S.E. Indaiatuba - ECPv6.15.1.1//NONSGML v1.0//EN
CALSCALE:GREGORIAN
METHOD:PUBLISH
X-ORIGINAL-URL:https://useindaiatuba.org.br
X-WR-CALDESC:Eventos para U.S.E. Indaiatuba
REFRESH-INTERVAL;VALUE=DURATION:PT1H
X-Robots-Tag:noindex
X-PUBLISHED-TTL:PT1H
BEGIN:VTIMEZONE
TZID:America/Sao_Paulo
BEGIN:STANDARD
TZOFFSETFROM:-0200
TZOFFSETTO:-0300
TZNAME:-03
DTSTART:20160221T020000
END:STANDARD
BEGIN:DAYLIGHT
TZOFFSETFROM:-0300
TZOFFSETTO:-0200
TZNAME:-02
DTSTART:20161016T030000
END:DAYLIGHT
BEGIN:STANDARD
TZOFFSETFROM:-0200
TZOFFSETTO:-0300
TZNAME:-03
DTSTART:20170219T020000
END:STANDARD
BEGIN:DAYLIGHT
TZOFFSETFROM:-0300
TZOFFSETTO:-0200
TZNAME:-02
DTSTART:20171015T030000
END:DAYLIGHT
BEGIN:STANDARD
TZOFFSETFROM:-0200
TZOFFSETTO:-0300
TZNAME:-03
DTSTART:20180218T020000
END:STANDARD
BEGIN:DAYLIGHT
TZOFFSETFROM:-0300
TZOFFSETTO:-0200
TZNAME:-02
DTSTART:20181104T030000
END:DAYLIGHT
BEGIN:STANDARD
TZOFFSETFROM:-0200
TZOFFSETTO:-0300
TZNAME:-03
DTSTART:20190217T020000
END:STANDARD
END:VTIMEZONE
BEGIN:VEVENT
DTSTART;TZID=America/Sao_Paulo:20220312T110000
DTEND;TZID=America/Sao_Paulo:20220312T130000
DTSTAMP:20260423T210550
CREATED:20220205T214041Z
LAST-MODIFIED:20220205T214041Z
UID:1065-1647082800-1647090000@useindaiatuba.org.br
SUMMARY:Feijoada - Alvorada Cristã
DESCRIPTION:
URL:https://useindaiatuba.org.br/eventos/feijoada-alvorada-crista/
LOCATION:Centro Espírita Alvorada Cristã\, Avenida Engenheiro Fábio Roberto Barnabé\, 6960\, Indaiatuba\, São Paulo\, 13331212\, Brasil
END:VEVENT
BEGIN:VEVENT
DTSTART;TZID=America/Sao_Paulo:20180316T193000
DTEND;TZID=America/Sao_Paulo:20180316T193000
DTSTAMP:20260423T210550
CREATED:20180212T122546Z
LAST-MODIFIED:20180223T142416Z
UID:665-1521228600-1521228600@useindaiatuba.org.br
SUMMARY:21ª Noite da Salada no Indaiatuba Clube
DESCRIPTION:Haverá Show com músicas ao vivo\, sorteio de brindes\, venda de livros Espíritas e Artesanato da Casa da Mulher Anália Franco que é o nosso departamento de promoção social.
URL:https://useindaiatuba.org.br/eventos/21-noite-da-salada-no-indaiatuba-clube/
LOCATION:São Paulo
ATTACH;FMTTYPE=image/png:https://useindaiatuba.org.br/wp-content/uploads/2018/02/salada-1.png
END:VEVENT
BEGIN:VEVENT
DTSTART;TZID=America/Sao_Paulo:20160521T080000
DTEND;TZID=America/Sao_Paulo:20160521T170000
DTSTAMP:20260423T210550
CREATED:20160317T210525Z
LAST-MODIFIED:20160317T210525Z
UID:271-1463817600-1463850000@useindaiatuba.org.br
SUMMARY:1ª Feira do Livro Espírita Monte Mor
DESCRIPTION:
URL:https://useindaiatuba.org.br/eventos/1a-feira-do-livro-espirita-monte-mor/
LOCATION:Praça Tese Marini\, Monte Mor\, São Paulo\, Brasil
ATTACH;FMTTYPE=image/jpeg:https://useindaiatuba.org.br/wp-content/uploads/2016/03/feira-do-livro.jpg
END:VEVENT
BEGIN:VEVENT
DTSTART;TZID=America/Sao_Paulo:20160514T090000
DTEND;TZID=America/Sao_Paulo:20160515T170000
DTSTAMP:20260423T210550
CREATED:20160504T000429Z
LAST-MODIFIED:20160504T001320Z
UID:380-1463216400-1463331600@useindaiatuba.org.br
SUMMARY:Feira do Livro Espírita
DESCRIPTION:Nos dias 14 e 15 de maio (sábado e domingo)\, a USE INDAIATUBA promoverá a Feira do Livro Espírita.\n \nA Feira será realizada no Depto. de Cultura do Centro Espírita Apóstolos do Bem\, localizado na rua Treze de Maio\, 173\, Centro.  \nO público poderá comparecer ao local das 9h ás 17h\, nos dois dias. \nOs livros estarão com descontos de até 70%. Compareça!
URL:https://useindaiatuba.org.br/eventos/feira-do-livro-espirita/
LOCATION:Depto. de Cultura do Centro Espírita Apóstolos do Bem\, Treze de Maio\, 173\, Indaiatuba\, São Paulo\, Brasil
ATTACH;FMTTYPE=image/jpeg:https://useindaiatuba.org.br/wp-content/uploads/2016/05/feira-do-livro-indatuba2.jpg
END:VEVENT
BEGIN:VEVENT
DTSTART;TZID=America/Sao_Paulo:20160416T193000
DTEND;TZID=America/Sao_Paulo:20160416T210000
DTSTAMP:20260423T210550
CREATED:20160313T170214Z
LAST-MODIFIED:20160412T144552Z
UID:265-1460835000-1460840400@useindaiatuba.org.br
SUMMARY:XX Mês do Teatro Espírita de Indaiatuba
DESCRIPTION:Abril é o Mês do Teatro Espírita de Indaiatuba.  O evento\, que já está em sua 20ª edição\, é realizado pelo Centro Espírita Paz\, Luz e Amor e Cia de Artes Paluarte e atrai não só o público espírita\, mas também a comunidade de Indaiatuba e região. \nEste ano\, o evento contará com a apresentação de grupos de arte de Campinas\, São Paulo\, Curitiba e Indaiatuba. \nAs apresentações musicais e teatrais acontecem ao longo de todos os sábados do mês de abril\, a partir das 19:30h no Centro Espírita Paz\, Luz e Amor que fica localizado na rua Romário Capóssoli\, n. 80\, no Jardim Itamaracá. \nA entrada é 1kg de alimento não perecível ou um 1L de leite longa vida. \nConfira toda a programação no cartaz. \nMais informações pelos telefones (019) 3312-2138; (019) 99144-8300; (019) 99613-7505
URL:https://useindaiatuba.org.br/eventos/xx-mes-do-teatro-espirita-de-indaiatuba/
LOCATION:Centro Espírita Paz\, Luz e Amor\, Rua Romário Capóssoli\, 80\, Indaiatuba\, São Paulo\, 13335-600\, Brasil
ATTACH;FMTTYPE=image/jpeg:https://useindaiatuba.org.br/wp-content/uploads/2016/03/teatro.jpg
END:VEVENT
BEGIN:VEVENT
DTSTART;TZID=America/Sao_Paulo:20160415T200000
DTEND;TZID=America/Sao_Paulo:20160416T170000
DTSTAMP:20260423T210550
CREATED:20160321T221140Z
LAST-MODIFIED:20160412T154929Z
UID:235-1460750400-1460826000@useindaiatuba.org.br
SUMMARY:Luis Hu Rivas em Indaiatuba
DESCRIPTION:Olá amigos!! \nNos dia 15 e 16 de abril\, iremos receber o querido companheiro de ideal espírita Luis Hu Rivas para três eventos distintos. \n  \nProgramação \n15/04 às 20h  – Palestra “Evangelho Fácil”\, na  Câmara Municipal de Indaiatuba (Rua Humaitá 1.167) – Não é necessário fazer inscrição \n16/04 das 9h às 12 – Palestra “Nova Literatura”\, no  Centro Espírita Apóstolos do Bem (Rua Treze de Maio\, 218)  \n16/04 das 14h às 17h – Seminário “Reencarnação Fácil”\, no  Centro Espírita Apóstolos do Bem (Rua Treze de Maio\, 218)  \n\nAtenção!! Se você quiser participar dos dois eventos do dia 16/04 você vai precisar fazer inscrição para cada um deles. Vagas Limitadas!
URL:https://useindaiatuba.org.br/eventos/luis-hu-rivas-em-indaiatuba/
LOCATION:São Paulo
ATTACH;FMTTYPE=image/png:https://useindaiatuba.org.br/wp-content/uploads/2016/02/luis-hu-Copia.png
END:VEVENT
BEGIN:VEVENT
DTSTART;TZID=America/Sao_Paulo:20160408T193000
DTEND;TZID=America/Sao_Paulo:20160408T220000
DTSTAMP:20260423T210550
CREATED:20160320T154704Z
LAST-MODIFIED:20160412T154849Z
UID:278-1460143800-1460152800@useindaiatuba.org.br
SUMMARY:19ª Noite da Salada
DESCRIPTION:Em sua 19ª edição\, a tradicional Noite da Salada promovida pelo Centro Espírita Padre Zabeu Kauffman acontecerá no dia 8 de abril\, sexta feira a partir das 19:30h\, no salão social do Indaiatuba Clube. \nIdealizada por um grupo de voluntários\, há 19 anos\, a Noite da Salada já se tornou um evento tradicional para o município. Sua preparação mobiliza cerca de 100 voluntários que organizam\, realizam as compras\, preparam os pratos\, recepcionam e atendem o público durante o evento. \nCom opções diversificadas o cardápio conta com lasanha de alface\, feijão fradinho com calabresa e rúcula com manga. Como sobremesa será servido doce de abóbora\, entre outras opções\, preparadas por uma equipe de voluntários. \nOs convites estão à venda na sede da instituição\, no valor de R$ 40\,00 por pessoa ou opção de mesa com 6 lugares por apenas R$200\,00. Além de saborear um mix diversificado de saladas e especiarias o público contará com um show da cantora Kika Baldasseirine acompanhada do músico Jarbas Santana\, com vasto repertório de MPB e hits nacionais inesquecíveis. Também fazem parte da programação sorteios de brindes\, vendas de livros espíritas e também venda de artesanatos produzidos pela Casa da Mulher Anália Franco. \nToda a renda arrecadada com a venda dos ingressos será revertida ao Centro que\, entre outras atividades\, mantém a Casa da Mulher Anália Franco\, entidade assistencial que atende em média 100 mulheres\, entre mães\, adolescentes e gestantes de famílias carentes\, oferecendo palestras educativas e reflexões que estimulam uma mudança de comportamento visando a melhoria do relacionamento familiar. \nO Centro Espírita Padre Zabeu Kauffman está localizado à rua 13 de Maio\, 1054\, Cidade Nova – Indaiatuba. Mais informações pelo telefone (19) 3801 6097. Conheça mais sobre o trabalho assistencial e os cursos oferecidos acessando o site www.zabeukauffman.com.br.
URL:https://useindaiatuba.org.br/eventos/19a-noite-da-salada/
LOCATION:Indaiatuba Clube\, R. Dr. Oswaldo Cruz\, 40 \, Indaiatuba\, São Paulo\, 13339020\, Brasil
ATTACH;FMTTYPE=image/png:https://useindaiatuba.org.br/wp-content/uploads/2016/03/19salada.png
END:VEVENT
BEGIN:VEVENT
DTSTART;TZID=America/Sao_Paulo:20160228T100000
DTEND;TZID=America/Sao_Paulo:20160228T110000
DTSTAMP:20260423T210550
CREATED:20160227T145255Z
LAST-MODIFIED:20160227T150340Z
UID:172-1456653600-1456657200@useindaiatuba.org.br
SUMMARY:Palestra: Andrei Moreira
DESCRIPTION:
URL:https://useindaiatuba.org.br/eventos/palestra-andrei-moreira-2/
LOCATION:Centro Espírita Padre Zabeu Kauffman\, Rua Treze de Maio\, 1054\, Indaiatuba\, São Paulo\, 13330120\, Brasil
ATTACH;FMTTYPE=image/jpeg:https://useindaiatuba.org.br/wp-content/uploads/2016/02/image1.jpg
END:VEVENT
END:VCALENDAR